Package: gemini Version: 1.24.0 Command: /home/biocbuild/bbs-3.22-bioc/R/bin/R CMD INSTALL gemini StartedAt: 2025-11-17 17:04:50 -0500 (Mon, 17 Nov 2025) EndedAt: 2025-11-17 17:05:03 -0500 (Mon, 17 Nov 2025) EllapsedTime: 12.4 seconds RetCode: 0 Status: OK