Package: geNetClassifier Version: 1.50.0 Command: /Library/Frameworks/R.framework/Resources/bin/R CMD INSTALL geNetClassifier StartedAt: 2025-11-17 18:52:31 -0500 (Mon, 17 Nov 2025) EndedAt: 2025-11-17 18:52:53 -0500 (Mon, 17 Nov 2025) EllapsedTime: 22.2 seconds RetCode: 0 Status: OK