Package: geNetClassifier Version: 1.50.0 Command: /Library/Frameworks/R.framework/Resources/bin/R CMD build --keep-empty-dirs --no-resave-data geNetClassifier StartedAt: 2025-11-17 22:40:16 -0500 (Mon, 17 Nov 2025) EndedAt: 2025-11-17 22:40:55 -0500 (Mon, 17 Nov 2025) EllapsedTime: 39.2 seconds RetCode: 0 Status: OK PackageFile: geNetClassifier_1.50.0.tar.gz PackageFileSize: 3.936 MiB