Package: geNetClassifier Version: 1.50.0 Command: rm -rf geNetClassifier.buildbin-libdir && mkdir geNetClassifier.buildbin-libdir && /Users/biocbuild/BBS/utils/build-universal.sh geNetClassifier_1.50.0.tar.gz /Library/Frameworks/R.framework/Resources/bin/R geNetClassifier.buildbin-libdir StartedAt: 2025-11-18 17:43:02 -0500 (Tue, 18 Nov 2025) EndedAt: 2025-11-18 17:43:26 -0500 (Tue, 18 Nov 2025) EllapsedTime: 24.3 seconds RetCode: 0 Status: OK PackageFile: geNetClassifier_1.50.0.tgz PackageFileSize: 3.233 MiB