Package: geNetClassifier Version: 1.50.0 Command: /Library/Frameworks/R.framework/Resources/bin/R CMD INSTALL geNetClassifier StartedAt: 2025-11-17 18:32:34 -0500 (Mon, 17 Nov 2025) EndedAt: 2025-11-17 18:32:38 -0500 (Mon, 17 Nov 2025) EllapsedTime: 4.1 seconds RetCode: 0 Status: OK