Package: gdsfmt Version: 1.45.2 Command: /home/biocbuild/bbs-3.22-bioc/R/bin/R CMD INSTALL gdsfmt StartedAt: 2025-10-27 15:04:59 -0400 (Mon, 27 Oct 2025) EndedAt: 2025-10-27 15:08:59 -0400 (Mon, 27 Oct 2025) EllapsedTime: 240.1 seconds RetCode: 0 Status: OK