Package: gdsfmt Version: 1.45.2 Command: /home/biocbuild/bbs-3.22-bioc/R/bin/R CMD build --keep-empty-dirs --no-resave-data --md5 gdsfmt StartedAt: 2025-10-27 17:45:21 -0400 (Mon, 27 Oct 2025) EndedAt: 2025-10-27 17:49:09 -0400 (Mon, 27 Oct 2025) EllapsedTime: 228.2 seconds RetCode: 0 Status: OK PackageFile: gdsfmt_1.45.2.tar.gz PackageFileSize: 2.799 MiB