Package: gcatest Version: 2.10.0 Command: /home/biocbuild/bbs-3.22-bioc/R/bin/R CMD INSTALL gcatest StartedAt: 2025-11-20 15:55:48 -0500 (Thu, 20 Nov 2025) EndedAt: 2025-11-20 15:56:06 -0500 (Thu, 20 Nov 2025) EllapsedTime: 17.8 seconds RetCode: 0 Status: OK