Package: gcapc Version: 1.33.1 Command: /home/biocbuild/bbs-3.22-bioc/R/bin/R CMD INSTALL gcapc StartedAt: 2025-10-24 15:38:22 -0400 (Fri, 24 Oct 2025) EndedAt: 2025-10-24 15:38:53 -0400 (Fri, 24 Oct 2025) EllapsedTime: 30.6 seconds RetCode: 0 Status: OK