Package: gcapc Version: 1.33.1 Command: /home/biocbuild/bbs-3.22-bioc/R/bin/R CMD build --keep-empty-dirs --no-resave-data --md5 gcapc StartedAt: 2025-10-24 17:52:59 -0400 (Fri, 24 Oct 2025) EndedAt: 2025-10-24 17:56:28 -0400 (Fri, 24 Oct 2025) EllapsedTime: 208.2 seconds RetCode: 0 Status: OK PackageFile: gcapc_1.33.1.tar.gz PackageFileSize: 3.811 MiB