Package: gDRutils Version: 1.8.0 Command: rm -rf gDRutils.buildbin-libdir && mkdir gDRutils.buildbin-libdir && /Users/biocbuild/BBS/utils/build-universal.sh gDRutils_1.8.0.tar.gz /Library/Frameworks/R.framework/Resources/bin/R gDRutils.buildbin-libdir StartedAt: 2025-11-10 23:20:57 -0500 (Mon, 10 Nov 2025) EndedAt: 2025-11-10 23:21:09 -0500 (Mon, 10 Nov 2025) EllapsedTime: 12.2 seconds RetCode: 0 Status: OK PackageFile: gDRutils_1.8.0.tgz PackageFileSize: 687.6 KiB