Package: gDRcore Version: 1.7.8 Command: /home/biocbuild/bbs-3.22-bioc/R/bin/R CMD build --keep-empty-dirs --no-resave-data --md5 gDRcore StartedAt: 2025-10-24 17:53:24 -0400 (Fri, 24 Oct 2025) EndedAt: 2025-10-24 17:54:05 -0400 (Fri, 24 Oct 2025) EllapsedTime: 41.0 seconds RetCode: 0 Status: OK PackageFile: gDRcore_1.7.8.tar.gz PackageFileSize: 1.098 MiB