Package: gDR Version: 1.8.0 Command: /home/biocbuild/bbs-3.22-bioc/R/bin/R CMD INSTALL gDR StartedAt: 2025-11-14 15:41:20 -0500 (Fri, 14 Nov 2025) EndedAt: 2025-11-14 15:41:43 -0500 (Fri, 14 Nov 2025) EllapsedTime: 23.3 seconds RetCode: 0 Status: OK