Package: gDNAx Version: 1.8.0 Command: /home/biocbuild/bbs-3.22-bioc/R/bin/R CMD INSTALL gDNAx StartedAt: 2025-11-16 15:59:21 -0500 (Sun, 16 Nov 2025) EndedAt: 2025-11-16 16:00:13 -0500 (Sun, 16 Nov 2025) EllapsedTime: 51.8 seconds RetCode: 0 Status: OK