Package: gDNAx Version: 1.8.0 Command: /home/biocbuild/bbs-3.22-bioc/R/bin/R CMD build --keep-empty-dirs --no-resave-data --md5 gDNAx StartedAt: 2025-11-16 17:50:17 -0500 (Sun, 16 Nov 2025) EndedAt: 2025-11-16 17:53:50 -0500 (Sun, 16 Nov 2025) EllapsedTime: 213.2 seconds RetCode: 0 Status: OK PackageFile: gDNAx_1.8.0.tar.gz PackageFileSize: 734.6 KiB