Package: gCrisprTools Version: 2.15.0 Command: /home/biocbuild/bbs-3.22-bioc/R/bin/R CMD build --keep-empty-dirs --no-resave-data --md5 gCrisprTools StartedAt: 2025-10-28 17:42:30 -0400 (Tue, 28 Oct 2025) EndedAt: 2025-10-28 17:46:23 -0400 (Tue, 28 Oct 2025) EllapsedTime: 233.2 seconds RetCode: 0 Status: OK PackageFile: gCrisprTools_2.15.0.tar.gz PackageFileSize: 4.395 MiB