Package: funOmics Version: 1.4.0 Command: /home/biocbuild/bbs-3.22-bioc/R/bin/R CMD INSTALL funOmics StartedAt: 2025-11-20 16:17:26 -0500 (Thu, 20 Nov 2025) EndedAt: 2025-11-20 16:17:43 -0500 (Thu, 20 Nov 2025) EllapsedTime: 17.0 seconds RetCode: 0 Status: OK