Package: flowcatchR Version: 1.44.0 Command: /home/biocbuild/bbs-3.22-bioc/R/bin/R CMD INSTALL flowcatchR StartedAt: 2025-11-06 15:14:15 -0500 (Thu, 06 Nov 2025) EndedAt: 2025-11-06 15:14:26 -0500 (Thu, 06 Nov 2025) EllapsedTime: 11.5 seconds RetCode: 0 Status: OK