Package: flowcatchR Version: 1.44.0 Command: /home/biocbuild/bbs-3.22-bioc/R/bin/R CMD build --keep-empty-dirs --no-resave-data --md5 flowcatchR StartedAt: 2025-11-06 17:39:50 -0500 (Thu, 06 Nov 2025) EndedAt: 2025-11-06 17:40:27 -0500 (Thu, 06 Nov 2025) EllapsedTime: 37.0 seconds RetCode: 0 Status: OK PackageFile: flowcatchR_1.44.0.tar.gz PackageFileSize: 6.693 MiB