Package: flowWorkspace Version: 4.22.0 Command: /Library/Frameworks/R.framework/Resources/bin/R CMD INSTALL flowWorkspace StartedAt: 2025-11-03 15:27:17 -0500 (Mon, 03 Nov 2025) EndedAt: 2025-11-03 15:29:37 -0500 (Mon, 03 Nov 2025) EllapsedTime: 139.8 seconds RetCode: 0 Status: OK