Package: flowWorkspace Version: 4.22.0 Command: /Library/Frameworks/R.framework/Resources/bin/R CMD build --keep-empty-dirs --no-resave-data flowWorkspace StartedAt: 2025-11-03 17:04:17 -0500 (Mon, 03 Nov 2025) EndedAt: 2025-11-03 17:07:06 -0500 (Mon, 03 Nov 2025) EllapsedTime: 169.2 seconds RetCode: 0 Status: OK PackageFile: flowWorkspace_4.22.0.tar.gz PackageFileSize: 5.704 MiB