Package: flowWorkspace Version: 4.22.0 Command: rm -rf flowWorkspace.buildbin-libdir && mkdir flowWorkspace.buildbin-libdir && /Users/biocbuild/BBS/utils/build-universal.sh flowWorkspace_4.22.0.tar.gz /Library/Frameworks/R.framework/Resources/bin/R flowWorkspace.buildbin-libdir StartedAt: 2025-11-04 01:40:46 -0500 (Tue, 04 Nov 2025) EndedAt: 2025-11-04 01:43:23 -0500 (Tue, 04 Nov 2025) EllapsedTime: 157.1 seconds RetCode: 0 Status: OK PackageFile: flowWorkspace_4.22.0.tgz PackageFileSize: 6.267 MiB