Package: flowWorkspace Version: 4.21.0 Command: /Library/Frameworks/R.framework/Resources/bin/R CMD build --keep-empty-dirs --no-resave-data flowWorkspace StartedAt: 2025-10-26 16:31:04 -0400 (Sun, 26 Oct 2025) EndedAt: 2025-10-26 16:31:50 -0400 (Sun, 26 Oct 2025) EllapsedTime: 45.5 seconds RetCode: 0 Status: OK PackageFile: flowWorkspace_4.21.0.tar.gz PackageFileSize: 5.704 MiB