Package: flowViz Version: 1.74.0 Command: /home/biocbuild/bbs-3.22-bioc/R/bin/R CMD INSTALL flowViz StartedAt: 2025-11-06 15:13:26 -0500 (Thu, 06 Nov 2025) EndedAt: 2025-11-06 15:13:38 -0500 (Thu, 06 Nov 2025) EllapsedTime: 11.5 seconds RetCode: 0 Status: OK