Package: flowViz Version: 1.74.0 Command: /home/biocbuild/bbs-3.22-bioc/R/bin/R CMD build --keep-empty-dirs --no-resave-data --md5 flowViz StartedAt: 2025-11-06 17:41:30 -0500 (Thu, 06 Nov 2025) EndedAt: 2025-11-06 17:42:42 -0500 (Thu, 06 Nov 2025) EllapsedTime: 72.1 seconds RetCode: 0 Status: OK PackageFile: flowViz_1.74.0.tar.gz PackageFileSize: 991.7 KiB