Package: flowTrans Version: 1.61.0 Command: /home/biocbuild/bbs-3.22-bioc/R/bin/R CMD INSTALL flowTrans StartedAt: 2025-10-24 15:27:07 -0400 (Fri, 24 Oct 2025) EndedAt: 2025-10-24 15:27:15 -0400 (Fri, 24 Oct 2025) EllapsedTime: 8.2 seconds RetCode: 0 Status: OK