Package: flowTime Version: 1.33.0 Command: /home/biocbuild/bbs-3.22-bioc/R/bin/R CMD build --keep-empty-dirs --no-resave-data --md5 flowTime StartedAt: 2025-10-24 17:50:48 -0400 (Fri, 24 Oct 2025) EndedAt: 2025-10-24 17:51:21 -0400 (Fri, 24 Oct 2025) EllapsedTime: 33.0 seconds RetCode: 0 Status: OK PackageFile: flowTime_1.33.0.tar.gz PackageFileSize: 2.44 MiB