Package: flowStats Version: 4.21.0 Command: /home/biocbuild/bbs-3.22-bioc/R/bin/R CMD INSTALL flowStats StartedAt: 2025-10-24 15:45:20 -0400 (Fri, 24 Oct 2025) EndedAt: 2025-10-24 15:45:44 -0400 (Fri, 24 Oct 2025) EllapsedTime: 24.1 seconds RetCode: 0 Status: OK