Package: flowPlots Version: 1.58.0 Command: /home/biocbuild/bbs-3.22-bioc/R/bin/R CMD INSTALL flowPlots StartedAt: 2025-11-09 15:02:22 -0500 (Sun, 09 Nov 2025) EndedAt: 2025-11-09 15:02:33 -0500 (Sun, 09 Nov 2025) EllapsedTime: 11.2 seconds RetCode: 0 Status: OK