Package: flowPloidy Version: 1.36.0 Command: /home/biocbuild/bbs-3.22-bioc/R/bin/R CMD INSTALL flowPloidy StartedAt: 2025-11-17 17:15:10 -0500 (Mon, 17 Nov 2025) EndedAt: 2025-11-17 17:15:21 -0500 (Mon, 17 Nov 2025) EllapsedTime: 10.3 seconds RetCode: 0 Status: OK