Package: flowMeans Version: 1.70.0 Command: /home/biocbuild/bbs-3.22-bioc/R/bin/R CMD INSTALL flowMeans StartedAt: 2025-11-06 15:13:16 -0500 (Thu, 06 Nov 2025) EndedAt: 2025-11-06 15:13:33 -0500 (Thu, 06 Nov 2025) EllapsedTime: 17.0 seconds RetCode: 0 Status: OK