Package: flowGraph Version: 1.18.0 Command: /Library/Frameworks/R.framework/Resources/bin/R CMD INSTALL flowGraph StartedAt: 2025-11-10 15:05:52 -0500 (Mon, 10 Nov 2025) EndedAt: 2025-11-10 15:05:58 -0500 (Mon, 10 Nov 2025) EllapsedTime: 5.4 seconds RetCode: 0 Status: OK