Package: flowGraph Version: 1.18.0 Command: /Library/Frameworks/R.framework/Resources/bin/R CMD build --keep-empty-dirs --no-resave-data flowGraph StartedAt: 2025-11-10 16:25:30 -0500 (Mon, 10 Nov 2025) EndedAt: 2025-11-10 16:25:48 -0500 (Mon, 10 Nov 2025) EllapsedTime: 18.2 seconds RetCode: 0 Status: OK PackageFile: flowGraph_1.18.0.tar.gz PackageFileSize: 2.224 MiB