Package: flowGraph Version: 1.18.0 Command: rm -rf flowGraph.buildbin-libdir && mkdir flowGraph.buildbin-libdir && /Users/biocbuild/BBS/utils/build-universal.sh flowGraph_1.18.0.tar.gz /Library/Frameworks/R.framework/Resources/bin/R flowGraph.buildbin-libdir StartedAt: 2025-11-10 23:20:17 -0500 (Mon, 10 Nov 2025) EndedAt: 2025-11-10 23:20:24 -0500 (Mon, 10 Nov 2025) EllapsedTime: 6.1 seconds RetCode: 0 Status: OK PackageFile: flowGraph_1.18.0.tgz PackageFileSize: 2.603 MiB