Package: flowCut Version: 1.20.0 Command: /home/biocbuild/bbs-3.22-bioc/R/bin/R CMD INSTALL flowCut StartedAt: 2025-11-09 15:13:56 -0500 (Sun, 09 Nov 2025) EndedAt: 2025-11-09 15:14:04 -0500 (Sun, 09 Nov 2025) EllapsedTime: 7.6 seconds RetCode: 0 Status: OK