Package: flowCore Version: 2.22.0 Command: /Library/Frameworks/R.framework/Resources/bin/R CMD INSTALL flowCore StartedAt: 2025-11-03 15:19:29 -0500 (Mon, 03 Nov 2025) EndedAt: 2025-11-03 15:20:16 -0500 (Mon, 03 Nov 2025) EllapsedTime: 47.0 seconds RetCode: 0 Status: OK