Package: flowCore Version: 2.22.0 Command: /Library/Frameworks/R.framework/Resources/bin/R CMD build --keep-empty-dirs --no-resave-data flowCore StartedAt: 2025-11-03 17:03:13 -0500 (Mon, 03 Nov 2025) EndedAt: 2025-11-03 17:04:55 -0500 (Mon, 03 Nov 2025) EllapsedTime: 101.7 seconds RetCode: 0 Status: OK PackageFile: flowCore_2.22.0.tar.gz PackageFileSize: 7.446 MiB