Package: flowCore Version: 2.22.0 Command: rm -rf flowCore.buildbin-libdir && mkdir flowCore.buildbin-libdir && /Users/biocbuild/BBS/utils/build-universal.sh flowCore_2.22.0.tar.gz /Library/Frameworks/R.framework/Resources/bin/R flowCore.buildbin-libdir StartedAt: 2025-11-04 01:40:26 -0500 (Tue, 04 Nov 2025) EndedAt: 2025-11-04 01:41:27 -0500 (Tue, 04 Nov 2025) EllapsedTime: 61.3 seconds RetCode: 0 Status: OK PackageFile: flowCore_2.22.0.tgz PackageFileSize: 8.178 MiB