Package: flowCore Version: 2.22.0 Command: /Library/Frameworks/R.framework/Resources/bin/R CMD build --keep-empty-dirs --no-resave-data flowCore StartedAt: 2025-11-02 16:24:58 -0500 (Sun, 02 Nov 2025) EndedAt: 2025-11-02 16:25:30 -0500 (Sun, 02 Nov 2025) EllapsedTime: 32.4 seconds RetCode: 0 Status: OK PackageFile: flowCore_2.22.0.tar.gz PackageFileSize: 7.456 MiB