Package: flowCore Version: 2.22.0 Command: rm -rf flowCore.buildbin-libdir && mkdir flowCore.buildbin-libdir && /Users/biocbuild/BBS/utils/build-universal.sh flowCore_2.22.0.tar.gz /Library/Frameworks/R.framework/Resources/bin/R flowCore.buildbin-libdir StartedAt: 2025-10-31 23:07:10 -0400 (Fri, 31 Oct 2025) EndedAt: 2025-10-31 23:07:25 -0400 (Fri, 31 Oct 2025) EllapsedTime: 15.4 seconds RetCode: 0 Status: OK PackageFile: flowCore_2.22.0.tgz PackageFileSize: 8.154 MiB