Package: flowClust Version: 3.48.0 Command: /home/biocbuild/bbs-3.22-bioc/R/bin/R CMD INSTALL flowClust StartedAt: 2025-11-06 15:14:15 -0500 (Thu, 06 Nov 2025) EndedAt: 2025-11-06 15:15:54 -0500 (Thu, 06 Nov 2025) EllapsedTime: 98.5 seconds RetCode: 0 Status: OK