Package: flowClust Version: 3.48.0 Command: /home/biocbuild/bbs-3.22-bioc/R/bin/R CMD build --keep-empty-dirs --no-resave-data --md5 flowClust StartedAt: 2025-11-06 17:40:13 -0500 (Thu, 06 Nov 2025) EndedAt: 2025-11-06 17:41:59 -0500 (Thu, 06 Nov 2025) EllapsedTime: 106.2 seconds RetCode: 0 Status: OK PackageFile: flowClust_3.48.0.tar.gz PackageFileSize: 1.728 MiB