Package: flowBin Version: 1.46.0 Command: /home/biocbuild/bbs-3.22-bioc/R/bin/R CMD INSTALL flowBin StartedAt: 2025-11-06 15:13:55 -0500 (Thu, 06 Nov 2025) EndedAt: 2025-11-06 15:14:06 -0500 (Thu, 06 Nov 2025) EllapsedTime: 10.6 seconds RetCode: 0 Status: OK