Package: flagme Version: 1.66.0 Command: /home/biocbuild/bbs-3.22-bioc/R/bin/R CMD INSTALL flagme StartedAt: 2025-11-06 15:48:44 -0500 (Thu, 06 Nov 2025) EndedAt: 2025-11-06 15:49:34 -0500 (Thu, 06 Nov 2025) EllapsedTime: 49.9 seconds RetCode: 0 Status: OK