Package: fenr Version: 1.8.0 Command: /home/biocbuild/bbs-3.22-bioc/R/bin/R CMD build --keep-empty-dirs --no-resave-data --md5 fenr StartedAt: 2025-11-16 17:44:43 -0500 (Sun, 16 Nov 2025) EndedAt: 2025-11-16 17:45:07 -0500 (Sun, 16 Nov 2025) EllapsedTime: 24.0 seconds RetCode: 0 Status: OK PackageFile: fenr_1.8.0.tar.gz PackageFileSize: 1.999 MiB