Package: fcScan Version: 1.23.0 Command: /home/biocbuild/bbs-3.22-bioc/R/bin/R CMD INSTALL fcScan StartedAt: 2025-10-24 15:51:11 -0400 (Fri, 24 Oct 2025) EndedAt: 2025-10-24 15:51:49 -0400 (Fri, 24 Oct 2025) EllapsedTime: 38.1 seconds RetCode: 0 Status: OK