Package: fastseg Version: 1.56.0 Command: /Library/Frameworks/R.framework/Resources/bin/R CMD INSTALL fastseg StartedAt: 2025-11-10 15:15:34 -0500 (Mon, 10 Nov 2025) EndedAt: 2025-11-10 15:15:39 -0500 (Mon, 10 Nov 2025) EllapsedTime: 4.9 seconds RetCode: 0 Status: OK