Package: fastseg Version: 1.56.0 Command: /Library/Frameworks/R.framework/Resources/bin/R CMD build --keep-empty-dirs --no-resave-data fastseg StartedAt: 2025-11-10 16:23:32 -0500 (Mon, 10 Nov 2025) EndedAt: 2025-11-10 16:23:52 -0500 (Mon, 10 Nov 2025) EllapsedTime: 19.2 seconds RetCode: 0 Status: OK PackageFile: fastseg_1.56.0.tar.gz PackageFileSize: 729.1 KiB