Package: fastreeR Version: 1.99.10 Command: /home/biocbuild/bbs-3.22-bioc/R/bin/R CMD build --keep-empty-dirs --no-resave-data --md5 fastreeR StartedAt: 2025-10-28 17:36:02 -0400 (Tue, 28 Oct 2025) EndedAt: 2025-10-28 17:38:00 -0400 (Tue, 28 Oct 2025) EllapsedTime: 118.1 seconds RetCode: 1 Status: ERROR PackageFile: None PackageFileSize: NA