Package: fastLiquidAssociation Version: 1.46.0 Command: /home/biocbuild/bbs-3.22-bioc/R/bin/R CMD INSTALL fastLiquidAssociation StartedAt: 2025-11-16 15:51:10 -0500 (Sun, 16 Nov 2025) EndedAt: 2025-11-16 15:51:34 -0500 (Sun, 16 Nov 2025) EllapsedTime: 24.1 seconds RetCode: 0 Status: OK